Workbook

Sheet 01｜ダッシュボード
A1: Remindever｜契約管理ダッシュボード
A2: 定期支出と更新・解約期限を、ひと目で確認
A3: 基準日 | B3: =TODAY() -> 46308
A5: 年間の定期支出 | C5: 契約中のサービス | E5: 判断が必要な契約
A6: =SUMIFS('02｜契約一覧'!C3:C102,'02｜契約一覧'!D3:D102,"月額",'02｜契約一覧'!K3:K102,"契約中")*12+SUMIFS('02｜契約一覧'!C3:C102,'02｜契約一覧'!D3:D102,"年額",'02｜契約一覧'!K3:K102,"契約中") -> 39600 | C6: =COUNTIF('02｜契約一覧'!K3:K102,"契約中") -> 3 | E6: =COUNTIFS('02｜契約一覧'!K3:K102,"契約中",'02｜契約一覧'!I3:I102,"未判断",'02｜契約一覧'!E3:E102,">="&$B$3,'02｜契約一覧'!E3:E102,"<="&$B$3+90) -> 1
A9: 更新予定｜基準日からの期間別
A10: 30日以内 | C10: 60日以内 | E10: 90日以内
A11: =COUNTIFS('02｜契約一覧'!K3:K102,"契約中",'02｜契約一覧'!E3:E102,">="&$B$3,'02｜契約一覧'!E3:E102,"<="&$B$3+30) -> 2 | C11: =COUNTIFS('02｜契約一覧'!K3:K102,"契約中",'02｜契約一覧'!E3:E102,">="&$B$3,'02｜契約一覧'!E3:E102,"<="&$B$3+60) -> 2 | E11: =COUNTIFS('02｜契約一覧'!K3:K102,"契約中",'02｜契約一覧'!E3:E102,">="&$B$3,'02｜契約一覧'!E3:E102,"<="&$B$3+90) -> 3
A12: =SUMIFS('02｜契約一覧'!C3:C102,'02｜契約一覧'!K3:K102,"契約中",'02｜契約一覧'!E3:E102,">="&$B$3,'02｜契約一覧'!E3:E102,"<="&$B$3+30) -> 13500 | C12: =SUMIFS('02｜契約一覧'!C3:C102,'02｜契約一覧'!K3:K102,"契約中",'02｜契約一覧'!E3:E102,">="&$B$3,'02｜契約一覧'!E3:E102,"<="&$B$3+60) -> 13500 | E12: =SUMIFS('02｜契約一覧'!C3:C102,'02｜契約一覧'!K3:K102,"契約中",'02｜契約一覧'!E3:E102,">="&$B$3,'02｜契約一覧'!E3:E102,"<="&$B$3+90) -> 14300
A14: 期限アラート｜早めに確認したい契約
A15: 解約期限を超過 | D15: 解約期限まで7日以内
A16: =COUNTIFS('02｜契約一覧'!K3:K102,"契約中",'02｜契約一覧'!F3:F102,"<"&$B$3,'02｜契約一覧'!F3:F102,">0") -> 1 | D16: =COUNTIFS('02｜契約一覧'!K3:K102,"契約中",'02｜契約一覧'!F3:F102,">="&$B$3,'02｜契約一覧'!F3:F102,"<="&$B$3+7) -> 0
A17: 使い方：契約情報は「02｜契約一覧」に入力すると、このダッシュボードに反映されます。

Sheet 02｜契約一覧
A1: Remindever｜契約管理一覧
A2: サービス名 | B2: 契約先 | C2: 金額（円） | D2: 請求周期 | E2: 次回更新日 | F2: 解約期限 | G2: 自動更新 | H2: 担当者 | I2: 判断状況 | J2: メモ | K2: 契約状態
A3: Sample Design Pro | B3: 架空の提供元 | C3: 1500 | D3: 月額 | E3: 46310 | F3: 46307 | G3: あり | H3: 管理担当 | I3: 未判断 | J3: デザインツールの例 | K3: 契約中
A4: Sample Cloud | B4: 架空の提供元 | C4: 12000 | D4: 年額 | E4: 46336 | F4: 46329 | G4: あり | H4: 管理担当 | I4: 見直す | J4: クラウドサービスの例 | K4: 契約中
A5: Sample Notes | B5: 架空の提供元 | C5: 800 | D5: 月額 | E5: 46376 | G5: なし | H5: 管理担当 | I5: 継続 | J5: メモサービスの例 | K5: 契約中
A6: Sample Archive | B6: 架空の提供元 | C6: 9000 | D6: 年額 | E6: 46295 | F6: 46285 | G6: なし | H6: 管理担当 | I6: 解約 | J6: 終了済みの契約例 | K6: 終了済み

Sheet 03｜更新・解約チェック
A1: Remindever｜更新・解約チェック
A2: サービス名 | B2: 契約先 | C2: 次回更新日 | D2: 更新までの日数 | E2: 更新警告 | F2: 解約期限 | G2: 解約期限までの日数 | H2: 解約警告 | I2: 判断状況 | J2: チェック事項 | K2: 契約状態
A3: =IF('02｜契約一覧'!A3="","",'02｜契約一覧'!A3) -> Sample Design Pro | B3: =IF(A3="","",'02｜契約一覧'!B3) -> 架空の提供元 | C3: =IF(OR(A3="",'02｜契約一覧'!E3=""),"",'02｜契約一覧'!E3) -> 46310 | D3: =IF(OR(A3="",C3=""),"",C3-'01｜ダッシュボード'!$B$3) -> 2 | E3: =IF(A3="","",IF(K3<>"契約中","対象外",IF(C3="","更新日未入力",IF(D3<0,"更新日超過",IF(D3=0,"更新日当日",IF(D3<=7,"更新7日以内",IF(D3<=30,"更新30日以内","通常"))))))) -> 更新7日以内 | F3: =IF(OR(A3="",'02｜契約一覧'!F3=""),"",'02｜契約一覧'!F3) -> 46307 | G3: =IF(OR(A3="",F3=""),"",F3-'01｜ダッシュボード'!$B$3) -> -1 | H3: =IF(A3="","",IF(K3<>"契約中","対象外",IF(F3="","期限未設定",IF(G3<0,"期限超過",IF(G3=0,"期限当日",IF(G3<=7,"期限7日以内",IF(G3<=30,"期限30日以内","通常"))))))) -> 期限超過 | I3: =IF(A3="","",'02｜契約一覧'!I3) -> 未判断 | J3: =IF(A3="","",IF(K3<>"契約中","対象外",IF(AND(F3<>"",C3<>"",F3>C3),"日付不整合",IF(AND(I3="未判断",D3>=0,D3<=90),"更新判断が必要",IF(AND(I3="未判断",D3<0),"更新日を確認",""))))) -> 更新判断が必要 | K3: =IF(A3="","",'02｜契約一覧'!K3) -> 契約中
A4: =IF('02｜契約一覧'!A4="","",'02｜契約一覧'!A4) -> Sample Cloud | B4: =IF(A4="","",'02｜契約一覧'!B4) -> 架空の提供元 | C4: =IF(OR(A4="",'02｜契約一覧'!E4=""),"",'02｜契約一覧'!E4) -> 46336 | D4: =IF(OR(A4="",C4=""),"",C4-'01｜ダッシュボード'!$B$3) -> 28 | E4: =IF(A4="","",IF(K4<>"契約中","対象外",IF(C4="","更新日未入力",IF(D4<0,"更新日超過",IF(D4=0,"更新日当日",IF(D4<=7,"更新7日以内",IF(D4<=30,"更新30日以内","通常"))))))) -> 更新30日以内 | F4: =IF(OR(A4="",'02｜契約一覧'!F4=""),"",'02｜契約一覧'!F4) -> 46329 | G4: =IF(OR(A4="",F4=""),"",F4-'01｜ダッシュボード'!$B$3) -> 21 | H4: =IF(A4="","",IF(K4<>"契約中","対象外",IF(F4="","期限未設定",IF(G4<0,"期限超過",IF(G4=0,"期限当日",IF(G4<=7,"期限7日以内",IF(G4<=30,"期限30日以内","通常"))))))) -> 期限30日以内 | I4: =IF(A4="","",'02｜契約一覧'!I4) -> 見直す | J4: =IF(A4="","",IF(K4<>"契約中","対象外",IF(AND(F4<>"",C4<>"",F4>C4),"日付不整合",IF(AND(I4="未判断",D4>=0,D4<=90),"更新判断が必要",IF(AND(I4="未判断",D4<0),"更新日を確認",""))))) | K4: =IF(A4="","",'02｜契約一覧'!K4) -> 契約中
A5: =IF('02｜契約一覧'!A5="","",'02｜契約一覧'!A5) -> Sample Notes | B5: =IF(A5="","",'02｜契約一覧'!B5) -> 架空の提供元 | C5: =IF(OR(A5="",'02｜契約一覧'!E5=""),"",'02｜契約一覧'!E5) -> 46376 | D5: =IF(OR(A5="",C5=""),"",C5-'01｜ダッシュボード'!$B$3) -> 68 | E5: =IF(A5="","",IF(K5<>"契約中","対象外",IF(C5="","更新日未入力",IF(D5<0,"更新日超過",IF(D5=0,"更新日当日",IF(D5<=7,"更新7日以内",IF(D5<=30,"更新30日以内","通常"))))))) -> 通常 | F5: =IF(OR(A5="",'02｜契約一覧'!F5=""),"",'02｜契約一覧'!F5) | G5: =IF(OR(A5="",F5=""),"",F5-'01｜ダッシュボード'!$B$3) | H5: =IF(A5="","",IF(K5<>"契約中","対象外",IF(F5="","期限未設定",IF(G5<0,"期限超過",IF(G5=0,"期限当日",IF(G5<=7,"期限7日以内",IF(G5<=30,"期限30日以内","通常"))))))) -> 期限未設定 | I5: =IF(A5="","",'02｜契約一覧'!I5) -> 継続 | J5: =IF(A5="","",IF(K5<>"契約中","対象外",IF(AND(F5<>"",C5<>"",F5>C5),"日付不整合",IF(AND(I5="未判断",D5>=0,D5<=90),"更新判断が必要",IF(AND(I5="未判断",D5<0),"更新日を確認",""))))) | K5: =IF(A5="","",'02｜契約一覧'!K5) -> 契約中
A6: =IF('02｜契約一覧'!A6="","",'02｜契約一覧'!A6) -> Sample Archive | B6: =IF(A6="","",'02｜契約一覧'!B6) -> 架空の提供元 | C6: =IF(OR(A6="",'02｜契約一覧'!E6=""),"",'02｜契約一覧'!E6) -> 46295 | D6: =IF(OR(A6="",C6=""),"",C6-'01｜ダッシュボード'!$B$3) -> -13 | E6: =IF(A6="","",IF(K6<>"契約中","対象外",IF(C6="","更新日未入力",IF(D6<0,"更新日超過",IF(D6=0,"更新日当日",IF(D6<=7,"更新7日以内",IF(D6<=30,"更新30日以内","通常"))))))) -> 対象外 | F6: =IF(OR(A6="",'02｜契約一覧'!F6=""),"",'02｜契約一覧'!F6) -> 46285 | G6: =IF(OR(A6="",F6=""),"",F6-'01｜ダッシュボード'!$B$3) -> -23 | H6: =IF(A6="","",IF(K6<>"契約中","対象外",IF(F6="","期限未設定",IF(G6<0,"期限超過",IF(G6=0,"期限当日",IF(G6<=7,"期限7日以内",IF(G6<=30,"期限30日以内","通常"))))))) -> 対象外 | I6: =IF(A6="","",'02｜契約一覧'!I6) -> 解約 | J6: =IF(A6="","",IF(K6<>"契約中","対象外",IF(AND(F6<>"",C6<>"",F6>C6),"日付不整合",IF(AND(I6="未判断",D6>=0,D6<=90),"更新判断が必要",IF(AND(I6="未判断",D6<0),"更新日を確認",""))))) -> 対象外 | K6: =IF(A6="","",'02｜契約一覧'!K6) -> 終了済み
A7: =IF('02｜契約一覧'!A7="","",'02｜契約一覧'!A7) | B7: =IF(A7="","",'02｜契約一覧'!B7) | C7: =IF(OR(A7="",'02｜契約一覧'!E7=""),"",'02｜契約一覧'!E7) | D7: =IF(OR(A7="",C7=""),"",C7-'01｜ダッシュボード'!$B$3) | E7: =IF(A7="","",IF(K7<>"契約中","対象外",IF(C7="","更新日未入力",IF(D7<0,"更新日超過",IF(D7=0,"更新日当日",IF(D7<=7,"更新7日以内",IF(D7<=30,"更新30日以内","通常"))))))) | F7: =IF(OR(A7="",'02｜契約一覧'!F7=""),"",'02｜契約一覧'!F7) | G7: =IF(OR(A7="",F7=""),"",F7-'01｜ダッシュボード'!$B$3) | H7: =IF(A7="","",IF(K7<>"契約中","対象外",IF(F7="","期限未設定",IF(G7<0,"期限超過",IF(G7=0,"期限当日",IF(G7<=7,"期限7日以内",IF(G7<=30,"期限30日以内","通常"))))))) | I7: =IF(A7="","",'02｜契約一覧'!I7) | J7: =IF(A7="","",IF(K7<>"契約中","対象外",IF(AND(F7<>"",C7<>"",F7>C7),"日付不整合",IF(AND(I7="未判断",D7>=0,D7<=90),"更新判断が必要",IF(AND(I7="未判断",D7<0),"更新日を確認",""))))) | K7: =IF(A7="","",'02｜契約一覧'!K7)
A8: =IF('02｜契約一覧'!A8="","",'02｜契約一覧'!A8) | B8: =IF(A8="","",'02｜契約一覧'!B8) | C8: =IF(OR(A8="",'02｜契約一覧'!E8=""),"",'02｜契約一覧'!E8) | D8: =IF(OR(A8="",C8=""),"",C8-'01｜ダッシュボード'!$B$3) | E8: =IF(A8="","",IF(K8<>"契約中","対象外",IF(C8="","更新日未入力",IF(D8<0,"更新日超過",IF(D8=0,"更新日当日",IF(D8<=7,"更新7日以内",IF(D8<=30,"更新30日以内","通常"))))))) | F8: =IF(OR(A8="",'02｜契約一覧'!F8=""),"",'02｜契約一覧'!F8) | G8: =IF(OR(A8="",F8=""),"",F8-'01｜ダッシュボード'!$B$3) | H8: =IF(A8="","",IF(K8<>"契約中","対象外",IF(F8="","期限未設定",IF(G8<0,"期限超過",IF(G8=0,"期限当日",IF(G8<=7,"期限7日以内",IF(G8<=30,"期限30日以内","通常"))))))) | I8: =IF(A8="","",'02｜契約一覧'!I8) | J8: =IF(A8="","",IF(K8<>"契約中","対象外",IF(AND(F8<>"",C8<>"",F8>C8),"日付不整合",IF(AND(I8="未判断",D8>=0,D8<=90),"更新判断が必要",IF(AND(I8="未判断",D8<0),"更新日を確認",""))))) | K8: =IF(A8="","",'02｜契約一覧'!K8)
A9: =IF('02｜契約一覧'!A9="","",'02｜契約一覧'!A9) | B9: =IF(A9="","",'02｜契約一覧'!B9) | C9: =IF(OR(A9="",'02｜契約一覧'!E9=""),"",'02｜契約一覧'!E9) | D9: =IF(OR(A9="",C9=""),"",C9-'01｜ダッシュボード'!$B$3) | E9: =IF(A9="","",IF(K9<>"契約中","対象外",IF(C9="","更新日未入力",IF(D9<0,"更新日超過",IF(D9=0,"更新日当日",IF(D9<=7,"更新7日以内",IF(D9<=30,"更新30日以内","通常"))))))) | F9: =IF(OR(A9="",'02｜契約一覧'!F9=""),"",'02｜契約一覧'!F9) | G9: =IF(OR(A9="",F9=""),"",F9-'01｜ダッシュボード'!$B$3) | H9: =IF(A9="","",IF(K9<>"契約中","対象外",IF(F9="","期限未設定",IF(G9<0,"期限超過",IF(G9=0,"期限当日",IF(G9<=7,"期限7日以内",IF(G9<=30,"期限30日以内","通常"))))))) | I9: =IF(A9="","",'02｜契約一覧'!I9) | J9: =IF(A9="","",IF(K9<>"契約中","対象外",IF(AND(F9<>"",C9<>"",F9>C9),"日付不整合",IF(AND(I9="未判断",D9>=0,D9<=90),"更新判断が必要",IF(AND(I9="未判断",D9<0),"更新日を確認",""))))) | K9: =IF(A9="","",'02｜契約一覧'!K9)
A10: =IF('02｜契約一覧'!A10="","",'02｜契約一覧'!A10) | B10: =IF(A10="","",'02｜契約一覧'!B10) | C10: =IF(OR(A10="",'02｜契約一覧'!E10=""),"",'02｜契約一覧'!E10) | D10: =IF(OR(A10="",C10=""),"",C10-'01｜ダッシュボード'!$B$3) | E10: =IF(A10="","",IF(K10<>"契約中","対象外",IF(C10="","更新日未入力",IF(D10<0,"更新日超過",IF(D10=0,"更新日当日",IF(D10<=7,"更新7日以内",IF(D10<=30,"更新30日以内","通常"))))))) | F10: =IF(OR(A10="",'02｜契約一覧'!F10=""),"",'02｜契約一覧'!F10) | G10: =IF(OR(A10="",F10=""),"",F10-'01｜ダッシュボード'!$B$3) | H10: =IF(A10="","",IF(K10<>"契約中","対象外",IF(F10="","期限未設定",IF(G10<0,"期限超過",IF(G10=0,"期限当日",IF(G10<=7,"期限7日以内",IF(G10<=30,"期限30日以内","通常"))))))) | I10: =IF(A10="","",'02｜契約一覧'!I10) | J10: =IF(A10="","",IF(K10<>"契約中","対象外",IF(AND(F10<>"",C10<>"",F10>C10),"日付不整合",IF(AND(I10="未判断",D10>=0,D10<=90),"更新判断が必要",IF(AND(I10="未判断",D10<0),"更新日を確認",""))))) | K10: =IF(A10="","",'02｜契約一覧'!K10)
A11: =IF('02｜契約一覧'!A11="","",'02｜契約一覧'!A11) | B11: =IF(A11="","",'02｜契約一覧'!B11) | C11: =IF(OR(A11="",'02｜契約一覧'!E11=""),"",'02｜契約一覧'!E11) | D11: =IF(OR(A11="",C11=""),"",C11-'01｜ダッシュボード'!$B$3) | E11: =IF(A11="","",IF(K11<>"契約中","対象外",IF(C11="","更新日未入力",IF(D11<0,"更新日超過",IF(D11=0,"更新日当日",IF(D11<=7,"更新7日以内",IF(D11<=30,"更新30日以内","通常"))))))) | F11: =IF(OR(A11="",'02｜契約一覧'!F11=""),"",'02｜契約一覧'!F11) | G11: =IF(OR(A11="",F11=""),"",F11-'01｜ダッシュボード'!$B$3) | H11: =IF(A11="","",IF(K11<>"契約中","対象外",IF(F11="","期限未設定",IF(G11<0,"期限超過",IF(G11=0,"期限当日",IF(G11<=7,"期限7日以内",IF(G11<=30,"期限30日以内","通常"))))))) | I11: =IF(A11="","",'02｜契約一覧'!I11) | J11: =IF(A11="","",IF(K11<>"契約中","対象外",IF(AND(F11<>"",C11<>"",F11>C11),"日付不整合",IF(AND(I11="未判断",D11>=0,D11<=90),"更新判断が必要",IF(AND(I11="未判断",D11<0),"更新日を確認",""))))) | K11: =IF(A11="","",'02｜契約一覧'!K11)
A12: =IF('02｜契約一覧'!A12="","",'02｜契約一覧'!A12) | B12: =IF(A12="","",'02｜契約一覧'!B12) | C12: =IF(OR(A12="",'02｜契約一覧'!E12=""),"",'02｜契約一覧'!E12) | D12: =IF(OR(A12="",C12=""),"",C12-'01｜ダッシュボード'!$B$3) | E12: =IF(A12="","",IF(K12<>"契約中","対象外",IF(C12="","更新日未入力",IF(D12<0,"更新日超過",IF(D12=0,"更新日当日",IF(D12<=7,"更新7日以内",IF(D12<=30,"更新30日以内","通常"))))))) | F12: =IF(OR(A12="",'02｜契約一覧'!F12=""),"",'02｜契約一覧'!F12) | G12: =IF(OR(A12="",F12=""),"",F12-'01｜ダッシュボード'!$B$3) | H12: =IF(A12="","",IF(K12<>"契約中","対象外",IF(F12="","期限未設定",IF(G12<0,"期限超過",IF(G12=0,"期限当日",IF(G12<=7,"期限7日以内",IF(G12<=30,"期限30日以内","通常"))))))) | I12: =IF(A12="","",'02｜契約一覧'!I12) | J12: =IF(A12="","",IF(K12<>"契約中","対象外",IF(AND(F12<>"",C12<>"",F12>C12),"日付不整合",IF(AND(I12="未判断",D12>=0,D12<=90),"更新判断が必要",IF(AND(I12="未判断",D12<0),"更新日を確認",""))))) | K12: =IF(A12="","",'02｜契約一覧'!K12)
A13: =IF('02｜契約一覧'!A13="","",'02｜契約一覧'!A13) | B13: =IF(A13="","",'02｜契約一覧'!B13) | C13: =IF(OR(A13="",'02｜契約一覧'!E13=""),"",'02｜契約一覧'!E13) | D13: =IF(OR(A13="",C13=""),"",C13-'01｜ダッシュボード'!$B$3) | E13: =IF(A13="","",IF(K13<>"契約中","対象外",IF(C13="","更新日未入力",IF(D13<0,"更新日超過",IF(D13=0,"更新日当日",IF(D13<=7,"更新7日以内",IF(D13<=30,"更新30日以内","通常"))))))) | F13: =IF(OR(A13="",'02｜契約一覧'!F13=""),"",'02｜契約一覧'!F13) | G13: =IF(OR(A13="",F13=""),"",F13-'01｜ダッシュボード'!$B$3) | H13: =IF(A13="","",IF(K13<>"契約中","対象外",IF(F13="","期限未設定",IF(G13<0,"期限超過",IF(G13=0,"期限当日",IF(G13<=7,"期限7日以内",IF(G13<=30,"期限30日以内","通常"))))))) | I13: =IF(A13="","",'02｜契約一覧'!I13) | J13: =IF(A13="","",IF(K13<>"契約中","対象外",IF(AND(F13<>"",C13<>"",F13>C13),"日付不整合",IF(AND(I13="未判断",D13>=0,D13<=90),"更新判断が必要",IF(AND(I13="未判断",D13<0),"更新日を確認",""))))) | K13: =IF(A13="","",'02｜契約一覧'!K13)
A14: =IF('02｜契約一覧'!A14="","",'02｜契約一覧'!A14) | B14: =IF(A14="","",'02｜契約一覧'!B14) | C14: =IF(OR(A14="",'02｜契約一覧'!E14=""),"",'02｜契約一覧'!E14) | D14: =IF(OR(A14="",C14=""),"",C14-'01｜ダッシュボード'!$B$3) | E14: =IF(A14="","",IF(K14<>"契約中","対象外",IF(C14="","更新日未入力",IF(D14<0,"更新日超過",IF(D14=0,"更新日当日",IF(D14<=7,"更新7日以内",IF(D14<=30,"更新30日以内","通常"))))))) | F14: =IF(OR(A14="",'02｜契約一覧'!F14=""),"",'02｜契約一覧'!F14) | G14: =IF(OR(A14="",F14=""),"",F14-'01｜ダッシュボード'!$B$3) | H14: =IF(A14="","",IF(K14<>"契約中","対象外",IF(F14="","期限未設定",IF(G14<0,"期限超過",IF(G14=0,"期限当日",IF(G14<=7,"期限7日以内",IF(G14<=30,"期限30日以内","通常"))))))) | I14: =IF(A14="","",'02｜契約一覧'!I14) | J14: =IF(A14="","",IF(K14<>"契約中","対象外",IF(AND(F14<>"",C14<>"",F14>C14),"日付不整合",IF(AND(I14="未判断",D14>=0,D14<=90),"更新判断が必要",IF(AND(I14="未判断",D14<0),"更新日を確認",""))))) | K14: =IF(A14="","",'02｜契約一覧'!K14)
... A102: =IF('02｜契約一覧'!A102="","",'02｜契約一覧'!A102) | B102: =IF(A102="","",'02｜契約一覧'!B102) | C102: =IF(OR(A102="",'02｜契約一覧'!E102=""),"",'02｜契約一覧'!E102) | D102: =IF(OR(A102="",C102=""),"",C102-'01｜ダッシュボード'!$B$3) | E102: =IF(A102="","",IF(K102<>"契約中","対象外",IF(C102="","更新日未入力",IF(D102<0,"更新日超過",IF(D102=0,"更新日当日",IF(D102<=7,"更新7日以内",IF(D102<=30,"更新30日以内","通常"))))))) | F102: =IF(OR(A102="",'02｜契約一覧'!F102=""),"",'02｜契約一覧'!F102) | G102: =IF(OR(A102="",F102=""),"",F102-'01｜ダッシュボード'!$B$3) | H102: =IF(A102="","",IF(K102<>"契約中","対象外",IF(F102="","期限未設定",IF(G102<0,"期限超過",IF(G102=0,"期限当日",IF(G102<=7,"期限7日以内",IF(G102<=30,"期限30日以内","通常"))))))) | I102: =IF(A102="","",'02｜契約一覧'!I102) | J102: =IF(A102="","",IF(K102<>"契約中","対象外",IF(AND(F102<>"",C102<>"",F102>C102),"日付不整合",IF(AND(I102="未判断",D102>=0,D102<=90),"更新判断が必要",IF(AND(I102="未判断",D102<0),"更新日を確認",""))))) | K102: =IF(A102="","",'02｜契約一覧'!K102)

Sheet 04｜使い方
A1: Remindever｜無料サブスク・契約管理テンプレート
A3: このテンプレートでできること
A4: サブスクリプションやクラウドサービスなどの契約情報を一元管理し、年間コスト、更新予定、解約期限を確認できます。
A5: 最初に行うこと
A6: 1. 「02｜契約一覧」シートを開き、契約情報を入力します。
A7: 2. 請求周期、自動更新、判断状況、契約状態はプルダウンから選択します。
A8: 3. 「01｜ダッシュボード」で年間コストと更新予定を確認します。
A9: 4. 「03｜更新・解約チェック」で期限警告や未判断の契約を確認します。
A12: サービス名：契約しているサービスの名称を入力します。例：Notion、Microsoft 365
A13: 契約先：契約先の会社名などを入力します。分からない場合は空欄でも構いません。
A14: 金額（円）：1回の請求で支払う金額を入力します。月額契約は1か月分、年額契約は1年分です。
A15: 請求周期：「月額」または「年額」を選択します。年間コストの計算に使用します。
... A56: 公式サイト： https://remindever.com/
